BEGIN:VCALENDAR
VERSION:2.0
PRODID:-//eventon.com NONSGML v1.0//EN
CALSCALE:GREGORIAN
METHOD:PUBLISH
BEGIN:VEVENT
UID:69e8d34eb6fb2
DTSTAMP:20260422T135526Z
DTSTART:20180308T180000Z
DTEND:20180308T213000Z
LOCATION:Royal Horse Kita-ku\,  Toganochō\,  15−13\,  Miyuki Biru\,  Osaka\,  〒530-0056 Japan
SUMMARY:Sound Gate – Avalon Spirits
DESCRIPTION:New music for Shakuhachi\,  Native American Flute and Digeridoo
 . Adrian Freedman with Hiroki Okano and Kenji Mikami. Three master musician
 s\,  Hiroki Okano (Native American Flute)\,  Adrian Freedman (Shakuhachi)\,
   and Kenji Mikami (didgeridoo) come together to give the third in their se
 ries of world music concerts at the legendary jazz club[..]\nhttps://adrian
 freedman.com/events/sound-gate-avalon-spirits/
URL:https://adrianfreedman.com/events/sound-gate-avalon-spirits/
END:VEVENT
END:VCALENDAR